BEGIN:VCALENDAR
VERSION:2.0
PRODID:icalendar-ruby
CALSCALE:GREGORIAN
METHOD:PUBLISH
BEGIN:VEVENT
DTSTAMP:20260420T111517Z
UID:23-1465977@soopresbyterian.org
DTSTART;VALUE=DATE:20260516
DTEND;VALUE=DATE:20260516
CLASS:PUBLIC
CREATED:20260413T170244
DESCRIPTION:To honor and recognize the contributions of military personnel\
 , observe Armed Forces Day with these activities:\n\nAttend local parades 
 or ceremonies celebrating military service.\nVisit military museums or mem
 orials to learn about history and sacrifices.\nParticipate in community se
 rvice projects supporting veterans and active-duty members.\nFly the Ameri
 can flag to show support and appreciation.\nShare stories or posts on soci
 al media to raise awareness about military service.\nVolunteer with organi
 zations that assist military families and veterans.\n\nhttps://www.uso.org
 /stories/2225-when-is-armed-forces-day
LAST-MODIFIED:20260413T170244
LOCATION:
SUMMARY:Armed Forces Day
URL;VALUE=URI:https://www.soopresbyterian.org/events/armed-forces-day/2026-
 05-16
ATTACH;FILENAME=military_29861c.jpg;FMTTYPE=image/jpeg:https://dq5pwpg1q8ru
 0.cloudfront.net/2026/04/13/21/02/44/a7d1eccf-9b55-429c-b71a-92c95d09f70c/
 military_29861c.jpg
END:VEVENT
END:VCALENDAR
