BEGIN:VCALENDAR
VERSION:2.0
PRODID:icalendar-ruby
CALSCALE:GREGORIAN
METHOD:PUBLISH
BEGIN:VEVENT
DTSTAMP:20260420T104650Z
UID:22-1465971@soopresbyterian.org
DTSTART;VALUE=DATE:20260514
DTEND;VALUE=DATE:20260514
CLASS:PUBLIC
CREATED:20260413T165243
DESCRIPTION:\nThe Ascension refers to Jesus Christ's elevation to heaven 40
  days after His resurrection.\nIt is celebrated on the 40th day of Easter\
 , typically a Thursday.\nThe event signifies Jesus' exaltation and His ret
 urn to the Father.\nIt emphasizes the promise of the Holy Spirit\, who wou
 ld empower the apostles.\nThe Ascension is a pivotal moment in Christian t
 heology\, affirming Jesus' divine nature.\nIt serves as a reminder of the 
 hope of believers' future resurrection and eternal life.\n
LAST-MODIFIED:20260413T165243
LOCATION:
SUMMARY:Ascension of the Lord
URL;VALUE=URI:https://www.soopresbyterian.org/events/ascension-of-the-lord/
 2026-05-14
ATTACH;FILENAME=sky_28448ac.jpg;FMTTYPE=image/jpeg:https://dq5pwpg1q8ru0.cl
 oudfront.net/2026/04/13/20/51/14/3b5db3cd-15c8-4dcf-ad7d-9b79c56b2be3/sky_
 28448ac.jpg
END:VEVENT
END:VCALENDAR
