BEGIN:VCALENDAR
VERSION:2.0
PRODID:icalendar-ruby
CALSCALE:GREGORIAN
METHOD:PUBLISH
BEGIN:VEVENT
DTSTAMP:20260420T135918Z
UID:27-1467908@soopresbyterian.org
DTSTART:20260528T223000Z
DTEND:20260529T010000Z
CLASS:PUBLIC
CREATED:20260414T181342
DESCRIPTION:
LAST-MODIFIED:20260414T181342
LOCATION:
SUMMARY:Lock City AA
URL;VALUE=URI:https://www.soopresbyterian.org/events/lock-city-aa/2026-05-2
 8
END:VEVENT
END:VCALENDAR
