BEGIN:VCALENDAR
VERSION:2.0
PRODID:icalendar-ruby
CALSCALE:GREGORIAN
METHOD:PUBLISH
BEGIN:VEVENT
DTSTAMP:20260420T111504Z
UID:25-1465981@soopresbyterian.org
DTSTART;VALUE=DATE:20260525
DTEND;VALUE=DATE:20260525
CLASS:PUBLIC
CREATED:20260413T171028
DESCRIPTION:Memorial Day (originally known as Decoration Day) is a federal 
 holiday in the United States for honoring and mourning the military person
 nel who had died while serving in the United States Armed Forces. Wikipedi
 a\nMemorial Day History
LAST-MODIFIED:20260413T171028
LOCATION:
SUMMARY:Memorial Day
URL;VALUE=URI:https://www.soopresbyterian.org/events/memorial-day/2026-05-2
 5
ATTACH;FILENAME=flag_31236apc.jpg;FMTTYPE=image/jpeg:https://dq5pwpg1q8ru0.
 cloudfront.net/2026/04/13/21/10/28/92f7bc28-18ed-4b43-835e-fc8fe88e4c54/fl
 ag_31236apc.jpg
END:VEVENT
END:VCALENDAR
