BEGIN:VCALENDAR
VERSION:2.0
PRODID:icalendar-ruby
CALSCALE:GREGORIAN
METHOD:PUBLISH
BEGIN:VEVENT
DTSTAMP:20260420T093034Z
UID:21-1465969@soopresbyterian.org
DTSTART;VALUE=DATE:20260510
DTEND;VALUE=DATE:20260510
CLASS:PUBLIC
CREATED:20260413T164939
DESCRIPTION:
LAST-MODIFIED:20260413T164939
LOCATION:
SUMMARY:Mother's Day
URL;VALUE=URI:https://www.soopresbyterian.org/events/mothers-day/2026-05-10
ATTACH;FILENAME=flowers_31230ac.jpg;FMTTYPE=image/jpeg:https://dq5pwpg1q8ru
 0.cloudfront.net/2026/04/13/20/49/38/78cdeea7-8039-4275-974c-3d1fd107a68f/
 flowers_31230ac.jpg
END:VEVENT
END:VCALENDAR
