BEGIN:VCALENDAR
VERSION:2.0
PRODID:icalendar-ruby
CALSCALE:GREGORIAN
METHOD:PUBLISH
BEGIN:VEVENT
DTSTAMP:20260420T093556Z
UID:20-1465976@soopresbyterian.org
DTSTART;VALUE=DATE:20260507
DTEND;VALUE=DATE:20260507
CLASS:PUBLIC
CREATED:20260413T170013
DESCRIPTION:https://www.nationaldayofprayer.org/\nTell of His glory among t
 he nations\, His wonderful deeds among the peoples. Chronicles 16:24 NASB
LAST-MODIFIED:20260413T170013
LOCATION:
SUMMARY:National Day of Prayer
URL;VALUE=URI:https://www.soopresbyterian.org/events/national-day-of-prayer
 /2026-05-07
ATTACH;FILENAME=prayer_31348c.jpg;FMTTYPE=image/jpeg:https://dq5pwpg1q8ru0.
 cloudfront.net/2026/04/13/20/48/32/2445606a-0489-490b-84d8-990bf8bdeda2/pr
 ayer_31348c.jpg
END:VEVENT
END:VCALENDAR
