BEGIN:VCALENDAR
VERSION:2.0
PRODID:icalendar-ruby
CALSCALE:GREGORIAN
METHOD:PUBLISH
BEGIN:VEVENT
DTSTAMP:20260420T105029Z
UID:24-1465980@soopresbyterian.org
DTSTART;VALUE=DATE:20260524
DTEND;VALUE=DATE:20260524
CLASS:PUBLIC
CREATED:20260413T170826
DESCRIPTION:Pentecost is a Christian holiday that takes place on the 49th d
 ay after Easter. It commemorates the descent of the Holy Spirit upon the A
 postles of Jesus\, Mary\, and other followers of the Christ\, while they w
 ere in Jerusalem celebrating the Feast of Weeks\, as described in the Acts
  of the Apostles (Acts 2:1–31). Pentecost marks the "Birthday of the Chu
 rch". Wikipedia\nDay of Pentecost-what is it and why do we celebrate it?
LAST-MODIFIED:20260413T170826
LOCATION:
SUMMARY:Pentecost
URL;VALUE=URI:https://www.soopresbyterian.org/events/pentecost/2026-05-24
ATTACH;FILENAME=dove_31245c.jpg;FMTTYPE=image/jpeg:https://dq5pwpg1q8ru0.cl
 oudfront.net/2026/04/13/21/07/16/b08d4343-146c-47a8-b42e-0f32df4d1f53/dove
 _31245c.jpg
END:VEVENT
END:VCALENDAR
