BEGIN:VCALENDAR
VERSION:2.0
PRODID:icalendar-ruby
CALSCALE:GREGORIAN
METHOD:PUBLISH
BEGIN:VEVENT
DTSTAMP:20260420T110952Z
UID:26-1465983@soopresbyterian.org
DTSTART;VALUE=DATE:20260531
DTEND;VALUE=DATE:20260531
CLASS:PUBLIC
CREATED:20260413T171238
DESCRIPTION:Trinity Sunday is the first Sunday after Pentecost in the Weste
 rn Christian liturgical calendar\, and the Sunday of Pentecost in Eastern 
 Christianity. Trinity Sunday celebrates the Christian doctrine of the Trin
 ity\, the three Persons of God: the Father\, the Son\, and the Holy Spirit
 . Wikipedia\nTrinity Sunday Information
LAST-MODIFIED:20260413T171238
LOCATION:
SUMMARY:Trinity Sunday
URL;VALUE=URI:https://www.soopresbyterian.org/events/trinity-sunday/2026-05
 -31
ATTACH;FILENAME=banner_29935c.jpg;FMTTYPE=image/jpeg:https://dq5pwpg1q8ru0.
 cloudfront.net/2026/04/13/21/12/37/9dea13aa-639b-4f50-b977-6f231bdc9e00/ba
 nner_29935c.jpg
END:VEVENT
END:VCALENDAR
